BEGIN:VCALENDAR
VERSION:2.0
PRODID:-//https://kveo.nl///NONSGML kigkonsult.se iCalcreator 2.10.15//
METHOD:PUBLISH
BEGIN:VEVENT
UID:20260419T183027UTC-7951L4pPnk@https://kveo.nl/
DTSTAMP:20260419T183027Z
DESCRIPTION:Rayonbijeenkomst Noord Brabant West met diner.\nJachtzaal\, inl
 oop 16:30 uur. Aan tafel 18:00 uur.\nMeer detals volgen zodra beschikbaar.
  https://kveo.nl/component/rseventspro/evenement/129-r10-rayonbijeenkomst-
 noord-brabant-west-met-diner?Itemid=101
DTSTART:20230824T143000Z
DTEND:20230824T190000Z
LOCATION:De Fazant (Sint Annadreef 2\, 4851 RC Ulvenhout\, Netherlands)
SUMMARY:R10 | Rayonbijeenkomst Noord Brabant West (met diner) 
URL:https://kveo.nl/component/rseventspro/evenement/129-r10-rayonbijeenkoms
 t-noord-brabant-west-met-diner?Itemid=101
END:VEVENT
END:VCALENDAR
