BEGIN:VCALENDAR
VERSION:2.0
PRODID:-//https://kveo.nl///NONSGML kigkonsult.se iCalcreator 2.10.15//
METHOD:PUBLISH
BEGIN:VEVENT
UID:20260419T182640UTC-6088lgNUUa@https://kveo.nl/
DTSTAMP:20260419T182640Z
DESCRIPTION:Rayonbijeenkomst Noord Brabant West met lunch.\nInloop 11:30 uu
 r en om 12:30 uur aan tafel.\nMeer detals volgen zodra beschikbaar. https:
 //kveo.nl/component/rseventspro/evenement/130-r10-rayonbijeenkomst-noord-b
 rabant-west-met-lunch?Itemid=101
DTSTART:20230927T093000Z
DTEND:20230927T130000Z
LOCATION:Korenmolen De Hoop (Schoutenlaan 75\, 4854 AV Bavel\, Netherlands)
SUMMARY:R10 | Rayonbijeenkomst Noord Brabant West (met lunch) 
URL:https://kveo.nl/component/rseventspro/evenement/130-r10-rayonbijeenkoms
 t-noord-brabant-west-met-lunch?Itemid=101
END:VEVENT
END:VCALENDAR
