BEGIN:VCALENDAR
VERSION:2.0
PRODID:-//https://kveo.nl///NONSGML kigkonsult.se iCalcreator 2.10.15//
METHOD:PUBLISH
BEGIN:VEVENT
UID:20260422T090220UTC-1705VtRi1a@https://kveo.nl/
DTSTAMP:20260422T090220Z
DESCRIPTION:Vanaf 16.30 uur is de ontvangst met een drankje. Om ca 17.30 uu
 r is er tijd voor de warme maaltijd\, de bekende ‘blauwe hap’. Hiervoor wo
 rdt cateraar De Mandarijn uit Oldenzaal ingeschakeld. De kosten hiervoor b
 edragen € 11\,00 per persoon. U kunt deze kosten desgewenst overmaken op o
 nze nieuwe rekening: NL60 INGB 0100941699 tnv NA Stoeten\, PWHJ Janssen of
  ter plekke voldoen. Daarna is er natuurlijk nog tijd voor een ‘kop koffie
 ’ tot ca 19.30 uur.\nOnze vaste locatie is: KMV Semper Crescendo\, Wilhelm
 inastraat 29b\, 7571 CE Oldenzaal.\nEr is betaalde (tot 18.00 uur) parkeer
 gelegenheid voor de locatie en ca 300 meter terug is er vrij parkeren.\nUw
  eventuele partner/introducee is uiteraard ook van harte welkom.\nBij het 
 zoeken naar eventuele oplossingen voor uw vervoer naar onze bijeenkomst st
 eken we graag een helpende hand uit.\nWij stellen uw aanmelding erg op pri
 js om zodoende het juiste aantal maaltijden te kunnen bestellen. Wij zien 
 uw opgave daarom graag uiterlijk zaterdag 13 mei 2023 tegemoet. Die medede
 ling kan naar mij toe via een mail\, een brief of per telefoon. De gegeven
 s daarvoor vindt u in het briefhoofd van de convocatie hieromtrent welke n
 og naar U via Email zal worden verzonden. Eventuele wensen over activiteit
 en in ons rayon zijn welkom. Wij verheugen ons op uw komst.Met vriendelijk
 e groet\, mede namens onze rayonofficier Nico Stoeten\,\nWim Janssen\nNB: 
 De volgende bijeenkomst is op de 3e woensdag van de maand juni\, 21 juni 2
 023. https://kveo.nl/component/rseventspro/evenement/89-r16-rayonbijeenkom
 st-twente?Itemid=101
DTSTART:20230517T143000Z
DTEND:20230517T173000Z
LOCATION:KMV Semper Crescendo (Wilhelminastraat 29B\, 7571 CE Oldenzaal\, N
 etherlands)
SUMMARY:R16 | Rayonbijeenkomst Twente
URL:https://kveo.nl/component/rseventspro/evenement/89-r16-rayonbijeenkomst
 -twente?Itemid=101
END:VEVENT
END:VCALENDAR
