BEGIN:VCALENDAR
VERSION:2.0
PRODID:-//https://kveo.nl///NONSGML kigkonsult.se iCalcreator 2.10.15//
METHOD:PUBLISH
BEGIN:VEVENT
UID:20260424T125326UTC-4062auEZm8@https://kveo.nl/
DTSTAMP:20260424T125326Z
DESCRIPTION:Rayonbijeenkomst 22 mei 2025\nKoffie + Lezing - aperitief - din
 er\nDetails volgen zodra beschikbaar. https://kveo.nl/kalender/evenement/3
 59-r03-rayonbijeenkomst-de-achterhoek-met-lezing
DTSTART:20250522T133000Z
DTEND:20250522T170000Z
LOCATION:Kamp Holterhoek (Zwilbroekseweg 46\, 7152 CK Eibergen\, Netherland
 s)
SUMMARY:R03 | Rayonbijeenkomst De Achterhoek (met lezing)
URL:https://kveo.nl/kalender/evenement/359-r03-rayonbijeenkomst-de-achterho
 ek-met-lezing
END:VEVENT
END:VCALENDAR
