BEGIN:VCALENDAR
VERSION:2.0
PRODID:-//https://kveo.nl///NONSGML kigkonsult.se iCalcreator 2.10.15//
METHOD:PUBLISH
BEGIN:VEVENT
UID:20260424T233134UTC-9569jmAPgx@https://kveo.nl/
DTSTAMP:20260424T233134Z
DESCRIPTION:Op 25 mei komen wij weer bij elkaar in het Zadkine-college in R
 otterdam\, verzamelen vanaf 17.30h\, diner ca 18.00h.\nDe uitnodiging is v
 erstuurd aan de leden van het rayon Rotterdam en aan KVEO-Den Haag\, KVNRO
 -Rotterdam en M&M-Zuid-Holland.\nNadere info bij de rayonofficider. https:
 //kveo.nl/kalender/evenement/110-r22-rayonbijeenkomst-rotterdam
DTSTART:20230525T153000Z
DTEND:20230525T190000Z
LOCATION:Zadkine College (Benthemplein 15\, 3032 CC Rotterdam)
SUMMARY:R22 | Rayonbijeenkomst Rotterdam
URL:https://kveo.nl/kalender/evenement/110-r22-rayonbijeenkomst-rotterdam
END:VEVENT
END:VCALENDAR
